BEGIN:VCALENDAR
VERSION:2.0
PRODID:-//Talks.cam//talks.cam.ac.uk//
X-WR-CALNAME:Talks.cam
BEGIN:VEVENT
SUMMARY:HIV/AIDS and Education in Sub-Saharan Africa - Dr Susan Kiragu\, C
 entre for Commonwealth Education\, University of Cambridge
DTSTART:20121205T123000Z
DTEND:20121205T133000Z
UID:TALK41898@talks.cam.ac.uk
CONTACT:Bryony Horsley-Heather
DESCRIPTION:*_Centre for Commonwealth Education - Lunchtime Film Series_*\
 n\nIntroduction by Dr. Susan Kiragu\nSusan is a Research Associate at the 
 CCE. Her research interests are centred in collaborative educational resea
 rch in Africa. She has been involved with the ASKAIDS project\, investigat
 ing how children's everyday and school knowledges can be used in an HIV/AI
 DS curriculum.\n\n*Screening: Mothers helping mothers fight HIV* _(Mitchel
 l Besser\, TED Talks\, 2010)_\n\nHow can mothers with HIV avoid passing it
  to their children? In South Africa\, Mitchell Besser tapped a new resourc
 e for healthcare: mothers themselves. The program he started\, mothers2mot
 hers\, trains new mothers to educate and support other mums.\n\n
LOCATION:Room GS1 Donald McIntyre Building\, Faculty of Education\, 184 Hi
 lls Road\, Cambridge\, Room GS5
END:VEVENT
END:VCALENDAR
