BEGIN:VCALENDAR
VERSION:2.0
PRODID:-//Talks.cam//talks.cam.ac.uk//
X-WR-CALNAME:Talks.cam
BEGIN:VEVENT
SUMMARY:One Law for All - Anne Marie Waters
DTSTART:20130328T190000Z
DTEND:20130328T210000Z
UID:TALK41944@talks.cam.ac.uk
CONTACT:Andrew N Holding
DESCRIPTION:Anne Marie Waters is spokesperson for the One Law for All Camp
 aign. She campaigns against Sharia and religious Laws as she believes they
  represent a sacrifice of the rights of women in the name of legal and cul
 tural relativism. She is a law graduate with a strong interest in family l
 aw and human rights\, and the interaction of the two. She has written vari
 ous papers and articles on secularism\, the rights of women in family law\
 , and on human rights internationally.  She is a council member and campai
 gner for the National Secular Society”.
LOCATION:The Maypole
END:VEVENT
END:VCALENDAR
