BEGIN:VCALENDAR
VERSION:2.0
PRODID:-//Talks.cam//talks.cam.ac.uk//
X-WR-CALNAME:Talks.cam
BEGIN:VEVENT
SUMMARY:Mental health and mental imagery: from experimental psychopatholog
 y to treatment innovation  - Emily Holmes (MRC Cognition & Brain Science U
 nit)
DTSTART:20130116T123000Z
DTEND:20130116T133000Z
UID:TALK42057@talks.cam.ac.uk
CONTACT:Mandy Carter
DESCRIPTION:Abstract not available
LOCATION:Lecture Theatre\, MRC Cognition and Brain Sciences Unit\, Chaucer
  Road
END:VEVENT
END:VCALENDAR
