BEGIN:VCALENDAR
VERSION:2.0
PRODID:-//Talks.cam//talks.cam.ac.uk//
X-WR-CALNAME:Talks.cam
BEGIN:VEVENT
SUMMARY:Prior knowledge\, expectations and the perception of speech - Ediz
  Sohoglu (MRC Cognition & Brain Science Unit)
DTSTART:20130206T123000Z
DTEND:20130206T133000Z
UID:TALK42062@talks.cam.ac.uk
CONTACT:Mandy Carter
DESCRIPTION:Abstract not available
LOCATION:Lecture Theatre\, MRC Cognition and Brain Sciences Unit\, Chaucer
  Road
END:VEVENT
END:VCALENDAR
