BEGIN:VCALENDAR
VERSION:2.0
PRODID:-//Talks.cam//talks.cam.ac.uk//
X-WR-CALNAME:Talks.cam
BEGIN:VEVENT
SUMMARY:Stress tensor fluctuations in de Sitter spacetime - Guillem Perez-
 Nadal (Buenos Aires & Barcelona)
DTSTART:20130215T130000Z
DTEND:20130215T140000Z
UID:TALK42076@talks.cam.ac.uk
CONTACT:Dr Joan Camps
DESCRIPTION:In this talk I will discuss general properties of the stress t
 ensor two-point function of a quantum field in a maximally symmetric space
 time. Such a two-point function tells us about how the metric fluctuations
  are affected by the presence of the field. I will also give explicit resu
 lts for non-self-interacting scalar fields in de Sitter spacetime\, and co
 mment on the subtleties arising in the massless case.
LOCATION:Pavilion B Potter Room (B1.19)
END:VEVENT
END:VCALENDAR
