BEGIN:VCALENDAR
VERSION:2.0
PRODID:-//Talks.cam//talks.cam.ac.uk//
X-WR-CALNAME:Talks.cam
BEGIN:VEVENT
SUMMARY:Group actions on schemes and homotopy types - Ambrus Pál (Imperia
 l College)
DTSTART:20130123T141500Z
DTEND:20130123T151500Z
UID:TALK42287@talks.cam.ac.uk
CONTACT:Caucher Birkar
DESCRIPTION:One of the primary goals of arithmetic geometry is to find rat
 ional points on\nalgebraic varieties over arithmetically interesting field
 s in terms of computable invariants of\nthe variety. It is possible to int
 erpret this question as a determination of the fixed point set\nof a group
  action on a scheme using some homotopy type. I will talk about some of th
 e complex\nalgebraic geometry this philosophy leads us\, as well as some r
 elated stories over real closed\,\np-adic and global fields.
LOCATION:MR 13\, CMS
END:VEVENT
END:VCALENDAR
