BEGIN:VCALENDAR
VERSION:2.0
PRODID:-//Talks.cam//talks.cam.ac.uk//
X-WR-CALNAME:Talks.cam
BEGIN:VEVENT
SUMMARY:Nature Conservation: where have we come from\, where are we now\, 
 and where are we going? - Mark Avery
DTSTART:20130111T200000Z
DTEND:20130111T220000Z
UID:TALK42423@talks.cam.ac.uk
CONTACT:Vicki Harley
DESCRIPTION:Mark Avery will present his own very personal view of nature c
 onservation. Mark describes himself as an ex-Cambridge undergraduate\, ex-
 RSPB Conservation Director\, current birdwatcher\, environmental commentat
 or and writer. He is the author of a popular blog and his recent book Figh
 ting for Birds - 25 years in nature conservation\, has had excellent revie
 ws
LOCATION:St Johns Church Hall\, Hills Road\, Cambridge
END:VEVENT
END:VCALENDAR
