BEGIN:VCALENDAR
VERSION:2.0
PRODID:-//Talks.cam//talks.cam.ac.uk//
X-WR-CALNAME:Talks.cam
BEGIN:VEVENT
SUMMARY:Well-Being Policy and Paternalism - CANCELLED - Anna Alexandrova (
 Cambridge)
DTSTART:20130301T130000Z
DTEND:20130301T143000Z
UID:TALK42511@talks.cam.ac.uk
CONTACT:Dr Duncan Bell
DESCRIPTION:Abstract not available
LOCATION:Dirac Room\, Fisher Building\, St. John's College
END:VEVENT
END:VCALENDAR
