BEGIN:VCALENDAR
VERSION:2.0
PRODID:-//Talks.cam//talks.cam.ac.uk//
X-WR-CALNAME:Talks.cam
BEGIN:VEVENT
SUMMARY:Biofuels\, indirect land use change and greenhouse gas emissions: 
 A perfect storm of incomplete science and irresolvable politics? - James P
 almer\, PhD Student\, Department of Geography 
DTSTART:20130123T130000Z
DTEND:20130123T140000Z
UID:TALK42638@talks.cam.ac.uk
CONTACT:30411
DESCRIPTION:Directions to the Dirac Room: After entering the St John’s m
 ain gate (tourist entrance)\, walk straight on until you cross the Bridge 
 of Sighs. Take the second path to the right\, and the Fisher Building is o
 n your left (after going through the arch).
LOCATION:Dirac Room\, Fisher Building\, St Johns College
END:VEVENT
END:VCALENDAR
