BEGIN:VCALENDAR
VERSION:2.0
PRODID:-//Talks.cam//talks.cam.ac.uk//
X-WR-CALNAME:Talks.cam
BEGIN:VEVENT
SUMMARY:p-adic group rings and the equivariant Tamagawa number conjecture 
 - Henri Johnston (Cambridge)
DTSTART:20130205T161500Z
DTEND:20130205T171500Z
UID:TALK42677@talks.cam.ac.uk
CONTACT:Teruyoshi Yoshida
DESCRIPTION:We discuss applications of the understanding of the\nstructure
  of group rings of finite groups over p-adic integers to the\nequivariant 
 Tamagawa number conjecture. This is joint work with Andreas Nickel.
LOCATION:MR14
END:VEVENT
END:VCALENDAR
