BEGIN:VCALENDAR
VERSION:2.0
PRODID:-//Talks.cam//talks.cam.ac.uk//
X-WR-CALNAME:Talks.cam
BEGIN:VEVENT
SUMMARY:The scope of OsiriX teaching - Dr Simon Morley\, University Colleg
 e Hospitals\, London\; Northwick Park Hospital\, Harrow 
DTSTART:20130220T170000Z
DTEND:20130220T180000Z
UID:TALK42698@talks.cam.ac.uk
CONTACT:Sri Aitken
DESCRIPTION:Abstract not available
LOCATION:Berridge Room\, Level 5\, Addenbrookes Hospital\, University Dept
  of Radiology\,Cambridge CB2 0QQ
END:VEVENT
END:VCALENDAR
