BEGIN:VCALENDAR
VERSION:2.0
PRODID:-//Talks.cam//talks.cam.ac.uk//
X-WR-CALNAME:Talks.cam
BEGIN:VEVENT
SUMMARY:The Aftermath of Financial Crises - Sadeq Sayeed\, Chairman of Met
 age Capital Ltd
DTSTART:20130222T170000Z
DTEND:20130222T180000Z
UID:TALK42825@talks.cam.ac.uk
CONTACT:31624
DESCRIPTION:To book a place at this talk please contact Sally March on 012
 23 (7)65526 or by email at sally.march@pem.cam.ac.uk .
LOCATION:Old Library\, Pembroke College
END:VEVENT
END:VCALENDAR
