BEGIN:VCALENDAR
VERSION:2.0
PRODID:-//Talks.cam//talks.cam.ac.uk//
X-WR-CALNAME:Talks.cam
BEGIN:VEVENT
SUMMARY:This House Does Not Accept the Axiom of Choice - Dr Thomas Forster
  and Prof Imre Leader (DPMMS)
DTSTART:20130121T203000Z
DTEND:20130121T213000Z
UID:TALK42834@talks.cam.ac.uk
CONTACT:Mary Fortune
DESCRIPTION:Proposition: Dr Thomas Forster\nOpposition: Prof Imre Leader
LOCATION:Winstanley Lecture Theatre\, Trinity College
END:VEVENT
END:VCALENDAR
