BEGIN:VCALENDAR
VERSION:2.0
PRODID:-//Talks.cam//talks.cam.ac.uk//
X-WR-CALNAME:Talks.cam
BEGIN:VEVENT
SUMMARY:The dynamics of magma intrusion: Insights from field studies and a
 nalogue experiments - Janine Kavanagh\, Liverpool
DTSTART:20130515T153000Z
DTEND:20130515T163000Z
UID:TALK42881@talks.cam.ac.uk
CONTACT:Alex Copley
DESCRIPTION:Abstract not available
LOCATION:Marine/Wolfson Building lecture hall
END:VEVENT
END:VCALENDAR
