BEGIN:VCALENDAR
VERSION:2.0
PRODID:-//Talks.cam//talks.cam.ac.uk//
X-WR-CALNAME:Talks.cam
BEGIN:VEVENT
SUMMARY:CMS Results and the Quest for the Higgs Boson - Professor Tejinder
  (Jim) Virdee\, Imperial College\, London & CERN
DTSTART:20130220T160000Z
DTEND:20130220T170000Z
UID:TALK42936@talks.cam.ac.uk
CONTACT:Leona Hope-Coles
DESCRIPTION:Abstract not available
LOCATION:Pippard Lecture Theatre\, Cavendish Laboratory
END:VEVENT
END:VCALENDAR
