BEGIN:VCALENDAR
VERSION:2.0
PRODID:-//Talks.cam//talks.cam.ac.uk//
X-WR-CALNAME:Talks.cam
BEGIN:VEVENT
SUMMARY:Geographical perspectives on personality and wellbeing - Dr. Marku
 s Jokela\, University of Helsinki
DTSTART:20130614T133000Z
DTEND:20130614T143000Z
UID:TALK42978@talks.cam.ac.uk
CONTACT:Luning Sun
DESCRIPTION:Abstract not available
LOCATION:Seminar Room\, Department of Psychology\, Downing Site\, Cambridg
 e
END:VEVENT
END:VCALENDAR
