BEGIN:VCALENDAR
VERSION:2.0
PRODID:-//Talks.cam//talks.cam.ac.uk//
X-WR-CALNAME:Talks.cam
BEGIN:VEVENT
SUMMARY:Indus Identity and Material Culture: rural ceramic production in B
 ronze Age northwest India - Danika Parikh
DTSTART:20130121T160000Z
DTEND:20130121T170000Z
UID:TALK42998@talks.cam.ac.uk
CONTACT:Jennifer Bates
DESCRIPTION:Abstract not available
LOCATION:Seminar Room\, McDonald Institute for Archaeology\, Downing Site
END:VEVENT
END:VCALENDAR
