BEGIN:VCALENDAR
VERSION:2.0
PRODID:-//Talks.cam//talks.cam.ac.uk//
X-WR-CALNAME:Talks.cam
BEGIN:VEVENT
SUMMARY:The Inner Core: Journey to the Centre of the Earth - Lauren Waszek
DTSTART:20130212T180000Z
DTEND:20130212T190000Z
UID:TALK43098@talks.cam.ac.uk
CONTACT:Melanie Keene
DESCRIPTION:Abstract not available
LOCATION:Alison Shrubsole Room\, Homerton College
END:VEVENT
END:VCALENDAR
