BEGIN:VCALENDAR
VERSION:2.0
PRODID:-//Talks.cam//talks.cam.ac.uk//
X-WR-CALNAME:Talks.cam
BEGIN:VEVENT
SUMMARY:Erosive Wear Resistance of Carbon Nanotube Reinforced Polymer Comp
 osites - Jinhu Chen
DTSTART:20130219T183000Z
DTEND:20130219T190000Z
UID:TALK43100@talks.cam.ac.uk
CONTACT:Melanie Keene
DESCRIPTION:Abstract not available
LOCATION:Alison Shrubsole Room\, Homerton College
END:VEVENT
END:VCALENDAR
