BEGIN:VCALENDAR
VERSION:2.0
PRODID:-//Talks.cam//talks.cam.ac.uk//
X-WR-CALNAME:Talks.cam
BEGIN:VEVENT
SUMMARY:Renewable Energy - Prof Chris Howe\, Dr Richard McMahon
DTSTART:20130126T190000Z
DTEND:20130126T210000Z
UID:TALK43104@talks.cam.ac.uk
CONTACT:R.D. Obute
DESCRIPTION:“The Good\, The Bad and the Algae”\nProf Chris Howe\, work
 ing on the biochemistry and molecular evolution of photosynthetic organism
 s\, is studying ways of manipulating the photosynthetic machinery of Algae
  in renewable energy production. He is part of the Algal Biotechnology Con
 sortium based in Cambridge. \n\n“Wind Power: Power for the future or a s
 cam” \nDr Richard McMahon\, a Senior Lecturer in Electrical Engineering\
 , will be talking about the fastest growing form of power generation in ma
 ny countries – Wind power. He will be speaking about the basis of wind p
 ower\, his research into low maintenance generators for wind turbines and 
 how the industry is trying to secure its future. 
LOCATION:McCrum Lecture Theatre (behind the Eagle pub)
END:VEVENT
END:VCALENDAR
