BEGIN:VCALENDAR
VERSION:2.0
PRODID:-//Talks.cam//talks.cam.ac.uk//
X-WR-CALNAME:Talks.cam
BEGIN:VEVENT
SUMMARY:The upper paleolithic of the Middle Danube region: Modern human di
 spersal or local evolution? - Dr Philip R Nigst (University of Cambridge)
DTSTART:20130306T163000Z
DTEND:20130306T173000Z
UID:TALK43134@talks.cam.ac.uk
CONTACT:Jacob Dunn
DESCRIPTION:Abstract not available
LOCATION:Department of Biological Anthropology Lecture Theatre (Room 41) P
 embroke Street
END:VEVENT
END:VCALENDAR
