BEGIN:VCALENDAR
VERSION:2.0
PRODID:-//Talks.cam//talks.cam.ac.uk//
X-WR-CALNAME:Talks.cam
BEGIN:VEVENT
SUMMARY:Iranian Cinema: Gender\, Nation and Narration: The Mirror (Dir. Ja
 far Panahi\, Iran 1997)  - Dr Saeed Talajooy\, FAMES Cambridge
DTSTART:20130130T170000Z
DTEND:20130130T193000Z
UID:TALK43153@talks.cam.ac.uk
CONTACT:Dr Saeed Talajooy
DESCRIPTION:Iranian Cinema: Gender\, Nation and Narration\nDepartment of M
 iddle Eastern Studies\n\nAll Welcome\n\nThe screenings begin at 5pm and th
 e venue is\n\nLecture Room 1\, \nFaculty of Asian and Middle Eastern Studi
 es\, \nUniversity of Cambridge\, \nSidgwick Avenue\,\nCambridge\, CB3 9DA.
  \n\nFor further inquiries\, please contact Dr Saeed Talajooy at srt34@cam
 .ac.uk or go to\n\nhttp://www.research.ames.cam.ac.uk/research-groups/iran
 -india-studies-rg/iran-india-studies-rg-events
LOCATION:Lecture Room 1\, Faculty of Asian and Middle Eastern Studies\, Un
 iversity of Cambridge\, Sidgwick Avenue\, Cambridge\, CB3 9DA.
END:VEVENT
END:VCALENDAR
