BEGIN:VCALENDAR
VERSION:2.0
PRODID:-//Talks.cam//talks.cam.ac.uk//
X-WR-CALNAME:Talks.cam
BEGIN:VEVENT
SUMMARY:Part A: Humanitarian Work Psychology: Addressing Global Concerns t
 hrough the Science of Work\; Part B: Examining the Five Factor Model of Pe
 rsonality across Twenty-Seven Countries: The Influence of Development and 
 Culture - Dr. Lori Foster Thompson and Dr. Adam W. Meade ( North Carolina 
 State University) 
DTSTART:20130304T140000Z
DTEND:20130304T150000Z
UID:TALK43254@talks.cam.ac.uk
CONTACT:Luning Sun
DESCRIPTION:Abstract not available
LOCATION:Seminar Room\, Department of Psychology\, Downing Site\, Cambridg
 e
END:VEVENT
END:VCALENDAR
