BEGIN:VCALENDAR
VERSION:2.0
PRODID:-//Talks.cam//talks.cam.ac.uk//
X-WR-CALNAME:Talks.cam
BEGIN:VEVENT
SUMMARY:Monte Carlo simulations and Onsager density functional theory of h
 ard particle liquid crystal models - Allen\, M (University of Warwick)
DTSTART:20130205T140000Z
DTEND:20130205T150000Z
UID:TALK43382@talks.cam.ac.uk
CONTACT:Kathryn de Ridder
DESCRIPTION:Abstract not available
LOCATION:Seminar Room 2\, Gatehouse Newton Institute
END:VEVENT
END:VCALENDAR
