BEGIN:VCALENDAR
VERSION:2.0
PRODID:-//Talks.cam//talks.cam.ac.uk//
X-WR-CALNAME:Talks.cam
BEGIN:VEVENT
SUMMARY:Some Open Problems in Additive Combinatorics - Prof. Timothy Gower
 s (DPMMS)
DTSTART:20130224T100000Z
DTEND:20130224T104500Z
UID:TALK43655@talks.cam.ac.uk
CONTACT:Mary Fortune
DESCRIPTION:Abstract not available
LOCATION:Winstanley Lecture Theatre\, Trinity College
END:VEVENT
END:VCALENDAR
