BEGIN:VCALENDAR
VERSION:2.0
PRODID:-//Talks.cam//talks.cam.ac.uk//
X-WR-CALNAME:Talks.cam
BEGIN:VEVENT
SUMMARY:Studies on Abeta (1-42) toxicity  - Professor Vilma Borutaite\, In
 stitute for Biomedical Research\, Kaunas University of Medicine\, Lithuani
 a
DTSTART:20130410T110000Z
DTEND:20130410T120000Z
UID:TALK43764@talks.cam.ac.uk
CONTACT:Shannon Tinley-Browne
DESCRIPTION:Abstract not available
LOCATION:Brain Repair Centre\, Forvie Site\, Robinson Way
END:VEVENT
END:VCALENDAR
