BEGIN:VCALENDAR
VERSION:2.0
PRODID:-//Talks.cam//talks.cam.ac.uk//
X-WR-CALNAME:Talks.cam
BEGIN:VEVENT
SUMMARY:Paper discussion - Speaker to be confirmed
DTSTART:20130305T093000Z
DTEND:20130305T113000Z
UID:TALK43832@talks.cam.ac.uk
CONTACT:Ye Yuan
DESCRIPTION:We will discuss the following paper\nDynamic Network Identiﬁ
 cation Using the Direct Prediction-Error\nMethod\nArne Dankers\, Paul M.J.
  Van den Hof\, Peter S.C. Heuberger and Xavier Bombois
LOCATION: Cambridge University Engineering Department MIL meeting room
END:VEVENT
END:VCALENDAR
