BEGIN:VCALENDAR
VERSION:2.0
PRODID:-//Talks.cam//talks.cam.ac.uk//
X-WR-CALNAME:Talks.cam
BEGIN:VEVENT
SUMMARY:Sustainable Energy - David MacKay\, Inference Group
DTSTART:20050614T113000Z
DTEND:20050614T123000Z
UID:TALK4387@talks.cam.ac.uk
CONTACT:Ryan Prescott Adams
DESCRIPTION:What'll it be and will there be enough?
LOCATION:Ryle Seminar Room\, Cavendish Laboratory
END:VEVENT
END:VCALENDAR
