BEGIN:VCALENDAR
VERSION:2.0
PRODID:-//Talks.cam//talks.cam.ac.uk//
X-WR-CALNAME:Talks.cam
BEGIN:VEVENT
SUMMARY:To be confirmed - David MacKay
DTSTART:20050703T140000Z
DTEND:20050703T150000Z
UID:TALK4405@talks.cam.ac.uk
CONTACT:Phil Cowans
DESCRIPTION:Details to be confirmed
LOCATION:Ryle Seminar Room\, Cavendish Laboratory
END:VEVENT
END:VCALENDAR
