BEGIN:VCALENDAR
VERSION:2.0
PRODID:-//Talks.cam//talks.cam.ac.uk//
X-WR-CALNAME:Talks.cam
BEGIN:VEVENT
SUMMARY:Singularities and cosmic censorship in general relativity (ii) - M
 ihalis Dafermos\, University of Cambridge / Princeton University
DTSTART:20130320T120000Z
DTEND:20130320T130000Z
UID:TALK44095@talks.cam.ac.uk
CONTACT:6773
DESCRIPTION:For more information please see http://www.damtp.cam.ac.uk/eve
 nts/infinities2013/
LOCATION:MR2\, Centre for Mathematical Sciences\, Wilberforce Road\, Cambr
 idge
END:VEVENT
END:VCALENDAR
