BEGIN:VCALENDAR
VERSION:2.0
PRODID:-//Talks.cam//talks.cam.ac.uk//
X-WR-CALNAME:Talks.cam
BEGIN:VEVENT
SUMMARY:Uncertainty Management in a complex engineering environment - Bate
 s\, R (Rolls-Royce\, Derby)
DTSTART:20130325T100000Z
DTEND:20130325T103000Z
UID:TALK44108@talks.cam.ac.uk
CONTACT:Mustapha Amrani
DESCRIPTION:This talk concerns the implementation of Robust Design methods
  in engineering. It will begin with an overview of some aspects of the des
 ign and development of a civil turbofan eniagine and the multi-disciplinar
 y analysis environment that is required. A framework for managing uncertai
 nty in this environment will be described\, including discussion of the de
 velopment and implementation of methods to translate uncertainty on inputs
  and models to variation in output performance.\n
LOCATION:Seminar Room 1\, Newton Institute
END:VEVENT
END:VCALENDAR
