BEGIN:VCALENDAR
VERSION:2.0
PRODID:-//Talks.cam//talks.cam.ac.uk//
X-WR-CALNAME:Talks.cam
BEGIN:VEVENT
SUMMARY:" Cranial Cruciate Ligament Rupture - A Systematic Review of outco
 me and complications of the surgical procedures for Cranial Cruciate Ligam
 ent Rupture on the last ten years" - Filipe Dias (HRadke)
DTSTART:20130517T074500Z
DTEND:20130517T090000Z
UID:TALK44120@talks.cam.ac.uk
CONTACT:Denise Leeks
DESCRIPTION:Abstract not available
LOCATION:Lecture Theatre 2
END:VEVENT
END:VCALENDAR
