BEGIN:VCALENDAR
VERSION:2.0
PRODID:-//Talks.cam//talks.cam.ac.uk//
X-WR-CALNAME:Talks.cam
BEGIN:VEVENT
SUMMARY:"Biased excitable networks: how cells direct motion in response to
  gradients (a control perspective)" - Professor Pablo Iglesias\, John Hopk
 ins/Max Planck Dresden
DTSTART:20130321T103000Z
DTEND:20130321T113000Z
UID:TALK44146@talks.cam.ac.uk
CONTACT:Laura Reed
DESCRIPTION:Abstract not available
LOCATION:Cambridge University Engineering Department\, LR6
END:VEVENT
END:VCALENDAR
