BEGIN:VCALENDAR
VERSION:2.0
PRODID:-//Talks.cam//talks.cam.ac.uk//
X-WR-CALNAME:Talks.cam
BEGIN:VEVENT
SUMMARY:Multiple L-functions of modular forms - Ihara\, K (Osaka Universit
 y)
DTSTART:20130328T140000Z
DTEND:20130328T160000Z
UID:TALK44208@talks.cam.ac.uk
CONTACT:Mustapha Amrani
DESCRIPTION:2013/03/28
LOCATION:Seminar Room 2\, Newton Institute Gatehouse
END:VEVENT
END:VCALENDAR
