BEGIN:VCALENDAR
VERSION:2.0
PRODID:-//Talks.cam//talks.cam.ac.uk//
X-WR-CALNAME:Talks.cam
BEGIN:VEVENT
SUMMARY:Title to be confirmed - Ratisha Narayan
DTSTART:20130621T113000Z
DTEND:20130621T120000Z
UID:TALK44309@talks.cam.ac.uk
CONTACT:Megan Cooper
DESCRIPTION:Abstract not available
LOCATION:Biffen Lecture Theater\, Department of Genetics
END:VEVENT
END:VCALENDAR
