BEGIN:VCALENDAR
VERSION:2.0
PRODID:-//Talks.cam//talks.cam.ac.uk//
X-WR-CALNAME:Talks.cam
BEGIN:VEVENT
SUMMARY:The Boardman-Vogt tensor product of operadic bimodules - Hess\, K 
 (EPFL)
DTSTART:20130403T140000Z
DTEND:20130403T150000Z
UID:TALK44319@talks.cam.ac.uk
CONTACT:Mustapha Amrani
DESCRIPTION:(Joint work with Bill Dwyer.) The Boardman-Vogt tensor product
  of operads endows the category of operads with a symmetric monoidal struc
 ture that codifies interchanging algebraic structures. In this talk I will
  explain how to lift the Boardman-Vogt tensor product to the category of c
 omposition bimodules over operads. I will also sketch two geometric applic
 ations of the lifted B-V tensor product\, to building models for spaces of
  long links and for configuration spaces in product manifolds.\n
LOCATION:Seminar Room 1\, Newton Institute
END:VEVENT
END:VCALENDAR
