BEGIN:VCALENDAR
VERSION:2.0
PRODID:-//Talks.cam//talks.cam.ac.uk//
X-WR-CALNAME:Talks.cam
BEGIN:VEVENT
SUMMARY:Cambridge Assessment Network: Standard setting and maintaining usi
 ng expert judgement - Beth Black
DTSTART:20131019T093000Z
DTEND:20131019T113000Z
UID:TALK44432@talks.cam.ac.uk
CONTACT:32694
DESCRIPTION:A training event by Beth Black. This session will look at the 
 role and purpose of expert judgement in standard setting and maintaining\,
  as well as different methods for capturing expert judgements (e.g. Angoff
 \, Bookmark\, Awarding\, rank-ordering) and an evaluation of these methods
 . The speaker will also look at how expert judgement might be used alongsi
 de other (statistical) methods. Anyone interested or involved in standards
 \, standard setting and maintaining will benefit from this session.\n
LOCATION:9 Hills Road\, Cambridge Assessment
END:VEVENT
END:VCALENDAR
