BEGIN:VCALENDAR
VERSION:2.0
PRODID:-//Talks.cam//talks.cam.ac.uk//
X-WR-CALNAME:Talks.cam
BEGIN:VEVENT
SUMMARY:Implementation of viscoelastic Hopkinson bars and their applicatio
 n to the testing of soft materials - Richard Curry\, BISRU\, University of
  Cape Town\, South Africa
DTSTART:20130425T150000Z
DTEND:20130425T160000Z
UID:TALK44471@talks.cam.ac.uk
CONTACT:Stephen Walley
DESCRIPTION:The properties of soft\, viscoelastic materials at high strain
  rates are important in furthering our understanding of their role during 
 blast or impact events. When testing these soft or low impedance materials
  using a split Hopkinson pressure bar setup one experiences poor signal to
  noise ratios and impedance mismatching when using metallic bars. These di
 fficulties are overcome by useing polymeric Hopkinson bars. Implementing p
 olymeric Hopkinson bars requires characterisation of the viscoelastic prop
 erties of the material used. 
LOCATION:Mott Seminar Room\, Cavendish Laboratory
END:VEVENT
END:VCALENDAR
