BEGIN:VCALENDAR
VERSION:2.0
PRODID:-//Talks.cam//talks.cam.ac.uk//
X-WR-CALNAME:Talks.cam
BEGIN:VEVENT
SUMMARY:Nineteenth Epigenetics Club Seminar - Dr Philip Wigge\;  Dr Suzana
  Hadjur
DTSTART:20130507T170000Z
DTEND:20130507T180000Z
UID:TALK44761@talks.cam.ac.uk
CONTACT:david baulcombe
DESCRIPTION:Dr Philip Wigge\, The Sainsbury Laboratory\, University of Cam
 bridge: "Temperature and chromatin"\n\n\nDr Suzana Hadjur\, Cancer Institu
 te\, UCL\, London: "Cohesin stabilizes interphase chromosome structure" \n
 \nThere will be wine and cheese after the talks. 
LOCATION:Physiology Lecure Theatre\, Physiology Building Downing Site
END:VEVENT
END:VCALENDAR
