BEGIN:VCALENDAR
VERSION:2.0
PRODID:-//Talks.cam//talks.cam.ac.uk//
X-WR-CALNAME:Talks.cam
BEGIN:VEVENT
SUMMARY:Controlling the Flow of Colour: Photonic Systems in Biology - Dr P
 eter Vukusic\, Thin Film Photonics\, School of Physics\, University of Exe
 ter
DTSTART:20051130T161500Z
DTEND:20051130T173000Z
UID:TALK4478@talks.cam.ac.uk
CONTACT:Duncan Simpson
DESCRIPTION:Diverse designs of naturally evolved nano-scale periodicity ar
 e known to generate optical functionality in the living world. While such 
 systems have clearly evolved for biological purposes\, they are increasing
 ly offering inspiration and design protocols for applied photonic technolo
 gies. This lecture will present both an overview of the knowledge base of 
 this emerging field of study\, as well as descriptions of several exciting
  recent discoveries that reflect natures optical expertise and design inge
 nuity.
LOCATION:Pippard Lecture Theatre\, Cavendish Laboratory\, Department of Ph
 ysics
END:VEVENT
END:VCALENDAR
