BEGIN:VCALENDAR
VERSION:2.0
PRODID:-//Talks.cam//talks.cam.ac.uk//
X-WR-CALNAME:Talks.cam
BEGIN:VEVENT
SUMMARY:Architectural Projections: GHOST IN THE SHELL + Introductory Talk 
 - Nic Clear (University of Greenwich)
DTSTART:20130502T153000Z
DTEND:20130502T173000Z
UID:TALK44861@talks.cam.ac.uk
CONTACT:18154
DESCRIPTION:*Ghost in the Shell* (15)\n\n* Director: Mamoru Oshii.\n* Japa
 n\, 1995.\n\nBlending computer graphics with hand-drawn animation\, this s
 ci-fi thriller presents a dark future where a counter-terrorist group is t
 rying to apprehend the mysterious hacker ‘The Puppetmaster’.\n\nInclud
 es an introductory talk by Nic Clear (Head of Architecture and Landscape\,
  University of Greenwich)\n\nsee "here":http://www.picturehouses.co.uk/cin
 ema/Arts_Picturehouse_Cambridge/film/Ghost_In_The_Shell/ for further detai
 ls and booking
LOCATION:Picturehouse Cinema
END:VEVENT
END:VCALENDAR
