BEGIN:VCALENDAR
VERSION:2.0
PRODID:-//Talks.cam//talks.cam.ac.uk//
X-WR-CALNAME:Talks.cam
BEGIN:VEVENT
SUMMARY:Asymptotic theory and numerical simulation of resonant flow in a l
 ibrating oblate spheroid - Keke Zhang (Univ. of Exeter)
DTSTART:20130603T150000Z
DTEND:20130603T160000Z
UID:TALK44878@talks.cam.ac.uk
CONTACT:Clement Baruteau
DESCRIPTION:Abstract not available
LOCATION:MR14\,  Centre for Mathematical Sciences\, Wilberforce Road\, Cam
 bridge
END:VEVENT
END:VCALENDAR
