BEGIN:VCALENDAR
VERSION:2.0
PRODID:-//Talks.cam//talks.cam.ac.uk//
X-WR-CALNAME:Talks.cam
BEGIN:VEVENT
SUMMARY:Enhanced Texture-Based Terrain Synthesis on Graphics Hardware - Fl
 ora Tasse
DTSTART:20130502T101500Z
DTEND:20130502T111500Z
UID:TALK45046@talks.cam.ac.uk
CONTACT:Henrik Lieng
DESCRIPTION:Flora's Eurographics presentation.
LOCATION:Rainbow Room (SS03)\, Computer Laboratory
END:VEVENT
END:VCALENDAR
