BEGIN:VCALENDAR
VERSION:2.0
PRODID:-//Talks.cam//talks.cam.ac.uk//
X-WR-CALNAME:Talks.cam
BEGIN:VEVENT
SUMMARY:“Clozapine: An Oasis In The Desert Of Treatment Resistant Schizo
 phrenia” - Dr Naeem Suleman on behalf of Dr G Murray
DTSTART:20130515T120000Z
DTEND:20130515T123000Z
UID:TALK45387@talks.cam.ac.uk
CONTACT:Jason Lynch
DESCRIPTION:Abstract not available
LOCATION:William Harvey Lecture Theatre
END:VEVENT
END:VCALENDAR
