BEGIN:VCALENDAR
VERSION:2.0
PRODID:-//Talks.cam//talks.cam.ac.uk//
X-WR-CALNAME:Talks.cam
BEGIN:VEVENT
SUMMARY:Pfizer Neusentis Graduate and Young Academics Symposium - Speaker 
 to be confirmed
DTSTART:20131101T140000Z
DTEND:20131101T170000Z
UID:TALK45511@talks.cam.ac.uk
CONTACT:S. Allen
DESCRIPTION:Abstract not available
LOCATION:Wolfson Lecture Theatre\,  Department of Chemistry\, Lensfield Ro
 ad
END:VEVENT
END:VCALENDAR
