BEGIN:VCALENDAR
VERSION:2.0
PRODID:-//Talks.cam//talks.cam.ac.uk//
X-WR-CALNAME:Talks.cam
BEGIN:VEVENT
SUMMARY:Unsound Ordinals - Prof. Adrian Mathias 
DTSTART:20130513T100000Z
DTEND:20130513T110000Z
UID:TALK45722@talks.cam.ac.uk
CONTACT:Zach McKenzie
DESCRIPTION:Abstract not available
LOCATION:CMS\, MR13
END:VEVENT
END:VCALENDAR
