BEGIN:VCALENDAR
VERSION:2.0
PRODID:-//Talks.cam//talks.cam.ac.uk//
X-WR-CALNAME:Talks.cam
BEGIN:VEVENT
SUMMARY:Innate Sensing\, Inflammasomes and NLRs: New Insights Revealed by 
 Imaging  and Systems Approaches - Naeha Subramanian (LSB\, NIAID\, NIH) 
DTSTART:20130725T120000Z
DTEND:20130725T130000Z
UID:TALK45876@talks.cam.ac.uk
CONTACT:Dr Tennie Videler
DESCRIPTION:\n
LOCATION:MPLT\, MRC-LMB\, Francis Crick Avenue\, Cambridge Biomedical Camp
 us\, CB2 0QH
END:VEVENT
END:VCALENDAR
