BEGIN:VCALENDAR
VERSION:2.0
PRODID:-//Talks.cam//talks.cam.ac.uk//
X-WR-CALNAME:Talks.cam
BEGIN:VEVENT
SUMMARY:Connecting with Collections Symposium - Connecting with Collection
 s Interns and Dr Sam Alberti
DTSTART:20130927T090000Z
DTEND:20130927T150000Z
UID:TALK45958@talks.cam.ac.uk
CONTACT:Dr Leena Rana
DESCRIPTION:Six post-doctoral researchers will present their new research 
 projects at a free one-day symposium.  These six projects are part of an A
 HRC 'Connecting with Collections' initiative that aims to transform access
  to the exceptional collections and research resources of the University M
 useums and Botanic Garden.\n\nKeynote speaker: \nDr Sam Alberti\, Director
  of Museums and Archives at the Royal College of Surgeons\, including Hunt
 erian Museum.\n \nSix researchers: \nLeena Rana\, Fitzwilliam Museum\;\nAa
 ron Jaffer\, Fitzwilliam Museum\;\nRebecca Wade\, Museum of Classical Arch
 aeology\;\nPippa Lacey\, Cambridge University Botanic Garden\;\nSeb Falk\,
  Whipple Museum of the History of Science\;\nLorna Richardson\, Museum of 
 Archaeology and Anthropology and Museum of Zoology.\n\n\nRegistration from
  09:00. \nLunch and refreshments provided.\n\nBooking essential\, via Even
 tbrite: http://www.eventbrite.co.uk/event/4511522084#\n\nFor more details 
 about the symposium visit: http://connectingwithcollections.wordpress.com/
 symposium/\n\nFor more information about the researchers visit:\nhttp://co
 nnectingwithcollections.wordpress.com/\n
LOCATION:Mill Lane Lecture Room 1\, 8 Mill Lane\, Cambridge CB2 1RX
END:VEVENT
END:VCALENDAR
