BEGIN:VCALENDAR
VERSION:2.0
PRODID:-//Talks.cam//talks.cam.ac.uk//
X-WR-CALNAME:Talks.cam
BEGIN:VEVENT
SUMMARY:“A Migratory Problem” - Dr Hoi Ping Mok\, Dr Andrew Dean & Dr 
 Hayley Bennett (Wellcome Trust Sanger Institute) for Dr E Gkrania-Klotsas
DTSTART:20130626T120000Z
DTEND:20130626T123000Z
UID:TALK45961@talks.cam.ac.uk
CONTACT:Jason Lynch
DESCRIPTION:Abstract not available
LOCATION:William Harvey Lecture Theatre
END:VEVENT
END:VCALENDAR
