BEGIN:VCALENDAR
VERSION:2.0
PRODID:-//Talks.cam//talks.cam.ac.uk//
X-WR-CALNAME:Talks.cam
BEGIN:VEVENT
SUMMARY:Photonic Liquid Crystal Fiber Interferometer - Poudereux Snchez\, 
 D (Technical University of Madrid)
DTSTART:20130705T104500Z
DTEND:20130705T110000Z
UID:TALK46177@talks.cam.ac.uk
CONTACT:Mustapha Amrani
DESCRIPTION:2013/07/05
LOCATION:Seminar Room 1\, Newton Institute
END:VEVENT
END:VCALENDAR
